BEGIN:VCALENDAR
VERSION:2.0
PRODID:-//Bw Catho - ECPv6.15.17//NONSGML v1.0//EN
CALSCALE:GREGORIAN
METHOD:PUBLISH
X-WR-CALNAME:Bw Catho
X-ORIGINAL-URL:https://www.bwcatho.be
X-WR-CALDESC:Évènements pour Bw Catho
REFRESH-INTERVAL;VALUE=DURATION:PT1H
X-Robots-Tag:noindex
X-PUBLISHED-TTL:PT1H
BEGIN:VTIMEZONE
TZID:Europe/Brussels
BEGIN:DAYLIGHT
TZOFFSETFROM:+0100
TZOFFSETTO:+0200
TZNAME:CEST
DTSTART:20220327T010000
END:DAYLIGHT
BEGIN:STANDARD
TZOFFSETFROM:+0200
TZOFFSETTO:+0100
TZNAME:CET
DTSTART:20221030T010000
END:STANDARD
BEGIN:DAYLIGHT
TZOFFSETFROM:+0100
TZOFFSETTO:+0200
TZNAME:CEST
DTSTART:20230326T010000
END:DAYLIGHT
BEGIN:STANDARD
TZOFFSETFROM:+0200
TZOFFSETTO:+0100
TZNAME:CET
DTSTART:20231029T010000
END:STANDARD
BEGIN:DAYLIGHT
TZOFFSETFROM:+0100
TZOFFSETTO:+0200
TZNAME:CEST
DTSTART:20240331T010000
END:DAYLIGHT
BEGIN:STANDARD
TZOFFSETFROM:+0200
TZOFFSETTO:+0100
TZNAME:CET
DTSTART:20241027T010000
END:STANDARD
END:VTIMEZONE
BEGIN:VEVENT
DTSTART;TZID=Europe/Brussels:20231214T200000
DTEND;TZID=Europe/Brussels:20231214T213000
DTSTAMP:20260422T121531
CREATED:20231123T104901Z
LAST-MODIFIED:20231205T112117Z
UID:10002743-1702584000-1702589400@www.bwcatho.be
SUMMARY:Le Mystère de Noël: Concert poétique
DESCRIPTION:L’unité pastorale de Blocry-Louvain-la-Neuve\, 1RCF\, l’ensemble Opus62 et l’asbl ppjc vous invitent à un concert poétique Le Mystère de Noël\, le jeudi 14 décembre de 20h à 21h30. \nLe programme du Mystère de Noël\nBeaucoup de compositeurs célèbres ont composé des morceaux sur la Nativité: Bach\, Vivaldi\, Palestrina\, Tchesnokov\, Saint-Saëns. L’ensemble Opus62 reprendra donc des morceaux de ces grands compositeurs. Le texte sera inspiré de la méditation de Saint Bernard de Clervaux et d’un Noël traditionnel ukrainien. \nEn résumé\, le Mystère de Noël est un conte poétique et musical accessible à tous: \nTandis que le quatuor nous fait entrer dans la contemplation du petit Enfant de la crèche\, le texte poétique nous entraine du terroir des humbles foyers des campagnes enneigées jusqu’aux salons d’Europe les plus raffinés\, dans les nuits éclairées des cimes alpines\, et plus loin encore… au-delà même des étoiles ! \nVous pouvez en apprendre plus sur le programme détaillé du concert et sur les artistes sur la page de 1RCF ou en visionnant la vidéo faite suite à la première date du concert. \nInformations pratiques\nIl est possible d’acheter ses billets sur place\, ou en prévente. C’est alors moins cher. \nRéservez votre place sur la billeterie en ligne \nEn Brabant wallon\, le concert a lieu à l’église Saint-François de Louvain-la-Neuve. D’autres dates sont possibles dans toute la Belgique francophone. \nVous pourrez aussi retrouver tous les concerts et les propositions pour l’Avent et Noël sur notre agenda.
URL:https://www.bwcatho.be/agenda/le-mystere-de-noel-concert-poetique/
LOCATION:Église Saint-François à LLN\, Avenue Hennebel 30\, Louvain-la-Neuve\, 1348\, Belgium
CATEGORIES:Concert,UP de Louvain-la-Neuve
ATTACH;FMTTYPE=image/jpeg:https://www.bwcatho.be/wp-content/uploads/2023/11/Concert-Mystere-de-Noel-Banner-270x100-v2web-1-scaled-1.jpg
END:VEVENT
END:VCALENDAR