BEGIN:VCALENDAR
VERSION:2.0
PRODID:-//Bw Catho - ECPv6.15.17//NONSGML v1.0//EN
CALSCALE:GREGORIAN
METHOD:PUBLISH
X-ORIGINAL-URL:https://www.bwcatho.be
X-WR-CALDESC:Évènements pour Bw Catho
REFRESH-INTERVAL;VALUE=DURATION:PT1H
X-Robots-Tag:noindex
X-PUBLISHED-TTL:PT1H
BEGIN:VTIMEZONE
TZID:Europe/Paris
BEGIN:DAYLIGHT
TZOFFSETFROM:+0100
TZOFFSETTO:+0200
TZNAME:CEST
DTSTART:20200329T010000
END:DAYLIGHT
BEGIN:STANDARD
TZOFFSETFROM:+0200
TZOFFSETTO:+0100
TZNAME:CET
DTSTART:20201025T010000
END:STANDARD
BEGIN:DAYLIGHT
TZOFFSETFROM:+0100
TZOFFSETTO:+0200
TZNAME:CEST
DTSTART:20210328T010000
END:DAYLIGHT
BEGIN:STANDARD
TZOFFSETFROM:+0200
TZOFFSETTO:+0100
TZNAME:CET
DTSTART:20211031T010000
END:STANDARD
BEGIN:DAYLIGHT
TZOFFSETFROM:+0100
TZOFFSETTO:+0200
TZNAME:CEST
DTSTART:20220327T010000
END:DAYLIGHT
BEGIN:STANDARD
TZOFFSETFROM:+0200
TZOFFSETTO:+0100
TZNAME:CET
DTSTART:20221030T010000
END:STANDARD
END:VTIMEZONE
BEGIN:VEVENT
DTSTART;TZID=Europe/Paris:20211219T180000
DTEND;TZID=Europe/Paris:20211219T180000
DTSTAMP:20260422T122117
CREATED:20211115T135324Z
LAST-MODIFIED:20211206T162509Z
UID:10001538-1639936800-1639936800@www.bwcatho.be
SUMMARY:Vers un NOUS toujours plus GRAND - Expo photos
DESCRIPTION:Vers un NOUS toujours plus GRAND :\nexposition de photos et témoignages de « migrations »\nL’exposition sera ouverte les dimanches 28 novembre\, 5 décembre\, 12 décembre et 19 décembre 2021 de 15h à 17h\, à l’église Saint-Jean-Baptiste de Huppaye. \n \nPour plus d’informations\, contactez le Pôle Solidarité de l’Unité pastorale de Ramillies. \n\nCrédit photo : © AEN \nInvitation :  Le Pôle Solidarité de l’Unité pastorale de Ramillies
URL:https://www.bwcatho.be/agenda/exposition-de-photos-et-temoignages/2021-12-19/
LOCATION:église Saint Jean-Baptiste de Huppaye\, Rue des Combattants et Déportés\, Huppaye\, 1367\, Belgium
CATEGORIES:Solidarité
ATTACH;FMTTYPE=image/png:https://www.bwcatho.be/wp-content/uploads/2021/11/Sans-titre-20.png
ORGANIZER;CN="Le P%C3%B4le Solidarit%C3%A9 de l'Unit%C3%A9 Pastorale de Ramillies":MAILTO:solidarite@upramillies.be
END:VEVENT
BEGIN:VEVENT
DTSTART;TZID=Europe/Paris:20211212T180000
DTEND;TZID=Europe/Paris:20211212T180000
DTSTAMP:20260422T122117
CREATED:20211115T135324Z
LAST-MODIFIED:20211206T162509Z
UID:10001537-1639332000-1639332000@www.bwcatho.be
SUMMARY:Vers un NOUS toujours plus GRAND - Expo photos
DESCRIPTION:Vers un NOUS toujours plus GRAND :\nexposition de photos et témoignages de « migrations »\nL’exposition sera ouverte les dimanches 28 novembre\, 5 décembre\, 12 décembre et 19 décembre 2021 de 15h à 17h\, à l’église Saint-Jean-Baptiste de Huppaye. \n \nPour plus d’informations\, contactez le Pôle Solidarité de l’Unité pastorale de Ramillies. \n\nCrédit photo : © AEN \nInvitation :  Le Pôle Solidarité de l’Unité pastorale de Ramillies
URL:https://www.bwcatho.be/agenda/exposition-de-photos-et-temoignages/2021-12-12/
LOCATION:église Saint Jean-Baptiste de Huppaye\, Rue des Combattants et Déportés\, Huppaye\, 1367\, Belgium
CATEGORIES:Solidarité
ATTACH;FMTTYPE=image/png:https://www.bwcatho.be/wp-content/uploads/2021/11/Sans-titre-20.png
ORGANIZER;CN="Le P%C3%B4le Solidarit%C3%A9 de l'Unit%C3%A9 Pastorale de Ramillies":MAILTO:solidarite@upramillies.be
END:VEVENT
BEGIN:VEVENT
DTSTART;TZID=Europe/Paris:20211205T180000
DTEND;TZID=Europe/Paris:20211205T180000
DTSTAMP:20260422T122117
CREATED:20211115T135324Z
LAST-MODIFIED:20211206T162509Z
UID:10001536-1638727200-1638727200@www.bwcatho.be
SUMMARY:Vers un NOUS toujours plus GRAND - Expo photos
DESCRIPTION:Vers un NOUS toujours plus GRAND :\nexposition de photos et témoignages de « migrations »\nL’exposition sera ouverte les dimanches 28 novembre\, 5 décembre\, 12 décembre et 19 décembre 2021 de 15h à 17h\, à l’église Saint-Jean-Baptiste de Huppaye. \n \nPour plus d’informations\, contactez le Pôle Solidarité de l’Unité pastorale de Ramillies. \n\nCrédit photo : © AEN \nInvitation :  Le Pôle Solidarité de l’Unité pastorale de Ramillies
URL:https://www.bwcatho.be/agenda/exposition-de-photos-et-temoignages/2021-12-05/
LOCATION:église Saint Jean-Baptiste de Huppaye\, Rue des Combattants et Déportés\, Huppaye\, 1367\, Belgium
CATEGORIES:Solidarité
ATTACH;FMTTYPE=image/png:https://www.bwcatho.be/wp-content/uploads/2021/11/Sans-titre-20.png
ORGANIZER;CN="Le P%C3%B4le Solidarit%C3%A9 de l'Unit%C3%A9 Pastorale de Ramillies":MAILTO:solidarite@upramillies.be
END:VEVENT
BEGIN:VEVENT
DTSTART;TZID=Europe/Paris:20211128T180000
DTEND;TZID=Europe/Paris:20211128T180000
DTSTAMP:20260422T122117
CREATED:20211115T135324Z
LAST-MODIFIED:20211206T162509Z
UID:10001535-1638122400-1638122400@www.bwcatho.be
SUMMARY:Vers un NOUS toujours plus GRAND - Expo photos
DESCRIPTION:Vers un NOUS toujours plus GRAND :\nexposition de photos et témoignages de « migrations »\nL’exposition sera ouverte les dimanches 28 novembre\, 5 décembre\, 12 décembre et 19 décembre 2021 de 15h à 17h\, à l’église Saint-Jean-Baptiste de Huppaye. \n \nPour plus d’informations\, contactez le Pôle Solidarité de l’Unité pastorale de Ramillies. \n\nCrédit photo : © AEN \nInvitation :  Le Pôle Solidarité de l’Unité pastorale de Ramillies
URL:https://www.bwcatho.be/agenda/exposition-de-photos-et-temoignages/2021-11-28/
LOCATION:église Saint Jean-Baptiste de Huppaye\, Rue des Combattants et Déportés\, Huppaye\, 1367\, Belgium
CATEGORIES:Solidarité
ATTACH;FMTTYPE=image/png:https://www.bwcatho.be/wp-content/uploads/2021/11/Sans-titre-20.png
ORGANIZER;CN="Le P%C3%B4le Solidarit%C3%A9 de l'Unit%C3%A9 Pastorale de Ramillies":MAILTO:solidarite@upramillies.be
END:VEVENT
BEGIN:VEVENT
DTSTART;TZID=Europe/Paris:20211127T180000
DTEND;TZID=Europe/Paris:20211127T180000
DTSTAMP:20260422T122117
CREATED:20211115T135324Z
LAST-MODIFIED:20211206T162509Z
UID:10001534-1638036000-1638036000@www.bwcatho.be
SUMMARY:Vers un NOUS toujours plus GRAND - Expo photos
DESCRIPTION:Vers un NOUS toujours plus GRAND :\nexposition de photos et témoignages de « migrations »\nL’exposition sera ouverte les dimanches 28 novembre\, 5 décembre\, 12 décembre et 19 décembre 2021 de 15h à 17h\, à l’église Saint-Jean-Baptiste de Huppaye. \n \nPour plus d’informations\, contactez le Pôle Solidarité de l’Unité pastorale de Ramillies. \n\nCrédit photo : © AEN \nInvitation :  Le Pôle Solidarité de l’Unité pastorale de Ramillies
URL:https://www.bwcatho.be/agenda/exposition-de-photos-et-temoignages/2021-11-27/
LOCATION:église Saint Jean-Baptiste de Huppaye\, Rue des Combattants et Déportés\, Huppaye\, 1367\, Belgium
CATEGORIES:Solidarité
ATTACH;FMTTYPE=image/png:https://www.bwcatho.be/wp-content/uploads/2021/11/Sans-titre-20.png
ORGANIZER;CN="Le P%C3%B4le Solidarit%C3%A9 de l'Unit%C3%A9 Pastorale de Ramillies":MAILTO:solidarite@upramillies.be
END:VEVENT
END:VCALENDAR