BEGIN:VCALENDAR
VERSION:2.0
PRODID:-//Bw Catho - ECPv6.15.17//NONSGML v1.0//EN
CALSCALE:GREGORIAN
METHOD:PUBLISH
X-ORIGINAL-URL:https://www.bwcatho.be
X-WR-CALDESC:Évènements pour Bw Catho
REFRESH-INTERVAL;VALUE=DURATION:PT1H
X-Robots-Tag:noindex
X-PUBLISHED-TTL:PT1H
BEGIN:VTIMEZONE
TZID:Europe/Brussels
BEGIN:DAYLIGHT
TZOFFSETFROM:+0100
TZOFFSETTO:+0200
TZNAME:CEST
DTSTART:20210328T010000
END:DAYLIGHT
BEGIN:STANDARD
TZOFFSETFROM:+0200
TZOFFSETTO:+0100
TZNAME:CET
DTSTART:20211031T010000
END:STANDARD
BEGIN:DAYLIGHT
TZOFFSETFROM:+0100
TZOFFSETTO:+0200
TZNAME:CEST
DTSTART:20220327T010000
END:DAYLIGHT
BEGIN:STANDARD
TZOFFSETFROM:+0200
TZOFFSETTO:+0100
TZNAME:CET
DTSTART:20221030T010000
END:STANDARD
BEGIN:DAYLIGHT
TZOFFSETFROM:+0100
TZOFFSETTO:+0200
TZNAME:CEST
DTSTART:20230326T010000
END:DAYLIGHT
BEGIN:STANDARD
TZOFFSETFROM:+0200
TZOFFSETTO:+0100
TZNAME:CET
DTSTART:20231029T010000
END:STANDARD
END:VTIMEZONE
BEGIN:VEVENT
DTSTART;TZID=Europe/Brussels:20221217T200000
DTEND;TZID=Europe/Brussels:20221217T220000
DTSTAMP:20260421T104352
CREATED:20221214T181336Z
LAST-MODIFIED:20221214T212428Z
UID:10002002-1671307200-1671314400@www.bwcatho.be
SUMMARY:Concert de Noël - Court-Saint-Étienne - 17 décembre
DESCRIPTION:  \nConcert « au chapeau » donné au profit de l’Aide alimentaire de Court-Saint-Étienne
URL:https://www.bwcatho.be/agenda/concert-de-noel-court-saint-etienne-17-decembre/
LOCATION:Église Saint-Etienne à Court-Saint-Étienne\, Rue du Village 1\, Court-Saint-Etienne\, 1490\, Belgium
CATEGORIES:Concert,Solidarité,UP de Court-Saint-Étienne
ATTACH;FMTTYPE=image/png:https://www.bwcatho.be/wp-content/uploads/2022/11/Entete-Noel-solidaire-et-chantant.png
ORGANIZER;CN="UP de Court-Saint-%C3%89tienne":MAILTO:saintetienne.court@gmail.com
END:VEVENT
END:VCALENDAR